BEGIN:VCALENDAR
VERSION:2.0
PRODID:-//America&#039;s Elite Vending Team LLC - ECPv6.15.20//NONSGML v1.0//EN
CALSCALE:GREGORIAN
METHOD:PUBLISH
X-WR-CALNAME:America&#039;s Elite Vending Team LLC
X-ORIGINAL-URL:https://aevtvending.com
X-WR-CALDESC:Events for America&#039;s Elite Vending Team LLC
REFRESH-INTERVAL;VALUE=DURATION:PT1H
X-Robots-Tag:noindex
X-PUBLISHED-TTL:PT1H
BEGIN:VTIMEZONE
TZID:America/Indiana/Indianapolis
BEGIN:DAYLIGHT
TZOFFSETFROM:-0500
TZOFFSETTO:-0400
TZNAME:EDT
DTSTART:20220313T070000
END:DAYLIGHT
BEGIN:STANDARD
TZOFFSETFROM:-0400
TZOFFSETTO:-0500
TZNAME:EST
DTSTART:20221106T060000
END:STANDARD
BEGIN:DAYLIGHT
TZOFFSETFROM:-0500
TZOFFSETTO:-0400
TZNAME:EDT
DTSTART:20230312T070000
END:DAYLIGHT
BEGIN:STANDARD
TZOFFSETFROM:-0400
TZOFFSETTO:-0500
TZNAME:EST
DTSTART:20231105T060000
END:STANDARD
BEGIN:DAYLIGHT
TZOFFSETFROM:-0500
TZOFFSETTO:-0400
TZNAME:EDT
DTSTART:20240310T070000
END:DAYLIGHT
BEGIN:STANDARD
TZOFFSETFROM:-0400
TZOFFSETTO:-0500
TZNAME:EST
DTSTART:20241103T060000
END:STANDARD
END:VTIMEZONE
BEGIN:VEVENT
DTSTART;VALUE=DATE:20230513
DTEND;VALUE=DATE:20230514
DTSTAMP:20260423T065619
CREATED:20230103T235239Z
LAST-MODIFIED:20230103T235239Z
UID:1423-1683936000-1684022399@aevtvending.com
SUMMARY:FC Dallas at Austin FC
DESCRIPTION:← Back Thank you for your response. ✨\n\n\n					\n						\n							\n							\n						\n						\n						\n						\n						\n							\n								\n									\n										\n										\n									\n									\n										\n										\n									\n								\n							\n						\n						\n							\n								\n									\n									\n										\n									\n									\n									\n								\n							\n						\n					\n				\n\n\n\nName(required)\n\n \n			\n				\n					\n						\n						\n						\n					\n				\n				\n			 \n	\n\n\nEmail(required)\n\n \n			\n				\n					\n						\n						\n						\n					\n				\n				\n			 \n	\n\n\nWebsite\n\n \n			\n				\n					\n						\n						\n						\n					\n				\n				\n			 \n	\n\n\nMessage\n\n \n			\n				\n					\n						\n						\n						\n					\n				\n				\n			\n	\n	\n\n				\n					\n				\n						Submit		\n		\n		\n	 \nΔ
URL:https://aevtvending.com/event/fc-dallas-at-austin-fc/
LOCATION:Q2 Stadium (Austin FC)-Please contact Seth McPheron\, 10414 Mc Kalla Pl\, Austin\, TX\, 78758\, United States
END:VEVENT
BEGIN:VEVENT
DTSTART;VALUE=DATE:20230513
DTEND;VALUE=DATE:20230514
DTSTAMP:20260423T065619
CREATED:20230427T153010Z
LAST-MODIFIED:20230427T153010Z
UID:1888-1683936000-1684022399@aevtvending.com
SUMMARY:Houston vs. Seattle
DESCRIPTION:
URL:https://aevtvending.com/event/houston-vs-seattle/
LOCATION:Shell Energy Stadium (Houston Dynamo) Please contact Seth McPheron\, 2200 Texas Ave\, Houston\, TX\, 77003\, United States
END:VEVENT
BEGIN:VEVENT
DTSTART;VALUE=DATE:20230513
DTEND;VALUE=DATE:20230514
DTSTAMP:20260423T065619
CREATED:20230502T224305Z
LAST-MODIFIED:20230502T224305Z
UID:1924-1683936000-1684022399@aevtvending.com
SUMMARY:Miami FC at Louisville City FC
DESCRIPTION:
URL:https://aevtvending.com/event/miami-fc-at-louisville-city-fc/
LOCATION:Lynn Family Stadium (Louisville City FC )-Please contact Adriana Pena\, 350 Adams St\, Louisville\, KY\, 40206\, United States
END:VEVENT
END:VCALENDAR