BEGIN:VCALENDAR
VERSION:2.0
PRODID:-//America&#039;s Elite Vending Team LLC - ECPv6.15.20//NONSGML v1.0//EN
CALSCALE:GREGORIAN
METHOD:PUBLISH
X-ORIGINAL-URL:https://aevtvending.com
X-WR-CALDESC:Events for America&#039;s Elite Vending Team LLC
REFRESH-INTERVAL;VALUE=DURATION:PT1H
X-Robots-Tag:noindex
X-PUBLISHED-TTL:PT1H
BEGIN:VTIMEZONE
TZID:America/Indiana/Indianapolis
BEGIN:DAYLIGHT
TZOFFSETFROM:-0500
TZOFFSETTO:-0400
TZNAME:EDT
DTSTART:20230312T070000
END:DAYLIGHT
BEGIN:STANDARD
TZOFFSETFROM:-0400
TZOFFSETTO:-0500
TZNAME:EST
DTSTART:20231105T060000
END:STANDARD
BEGIN:DAYLIGHT
TZOFFSETFROM:-0500
TZOFFSETTO:-0400
TZNAME:EDT
DTSTART:20240310T070000
END:DAYLIGHT
BEGIN:STANDARD
TZOFFSETFROM:-0400
TZOFFSETTO:-0500
TZNAME:EST
DTSTART:20241103T060000
END:STANDARD
BEGIN:DAYLIGHT
TZOFFSETFROM:-0500
TZOFFSETTO:-0400
TZNAME:EDT
DTSTART:20250309T070000
END:DAYLIGHT
BEGIN:STANDARD
TZOFFSETFROM:-0400
TZOFFSETTO:-0500
TZNAME:EST
DTSTART:20251102T060000
END:STANDARD
END:VTIMEZONE
BEGIN:VEVENT
DTSTART;VALUE=DATE:20240928
DTEND;VALUE=DATE:20240929
DTSTAMP:20260421T121431
CREATED:20240219T165215Z
LAST-MODIFIED:20240219T165215Z
UID:2560-1727481600-1727567999@aevtvending.com
SUMMARY:Austin FC vs. Real Salt Lake
DESCRIPTION:
URL:https://aevtvending.com/event/austin-fc-vs-real-salt-lake/
LOCATION:Q2 Stadium (Austin FC)-Please contact Seth McPheron\, 10414 Mc Kalla Pl\, Austin\, TX\, 78758\, United States
END:VEVENT
BEGIN:VEVENT
DTSTART;VALUE=DATE:20240928
DTEND;VALUE=DATE:20240929
DTSTAMP:20260421T121431
CREATED:20240627T005044Z
LAST-MODIFIED:20240627T005044Z
UID:2783-1727481600-1727567999@aevtvending.com
SUMMARY:Kansas Jayhawks vs. TCU Horned Frogs
DESCRIPTION:
URL:https://aevtvending.com/event/kansas-jayhawks-vs-tcu-horned-frogs/
LOCATION:ARROWHEAD STADIUM (KANSAS CITY CHIEFS)-Please contact Seth McPheron\, 1 Arrowhead Drive\, Kansas City\, MO\, 64129\, United States
END:VEVENT
BEGIN:VEVENT
DTSTART;VALUE=DATE:20240928
DTEND;VALUE=DATE:20240929
DTSTAMP:20260421T121431
CREATED:20240909T185959Z
LAST-MODIFIED:20240909T185959Z
UID:3210-1727481600-1727567999@aevtvending.com
SUMMARY:IU vs. Maryland
DESCRIPTION:
URL:https://aevtvending.com/event/iu-vs-maryland/
LOCATION:Indiana University Memorial Stadium – Please contact Evita Clarke\, 701 E 17th St.\, Bloomington\, IN\, 47408\, United States
END:VEVENT
END:VCALENDAR