BEGIN:VCALENDAR
VERSION:2.0
PRODID:-//America&#039;s Elite Vending Team LLC - ECPv6.15.20//NONSGML v1.0//EN
CALSCALE:GREGORIAN
METHOD:PUBLISH
X-WR-CALNAME:America&#039;s Elite Vending Team LLC
X-ORIGINAL-URL:https://aevtvending.com
X-WR-CALDESC:Events for America&#039;s Elite Vending Team LLC
REFRESH-INTERVAL;VALUE=DURATION:PT1H
X-Robots-Tag:noindex
X-PUBLISHED-TTL:PT1H
BEGIN:VTIMEZONE
TZID:America/Indiana/Indianapolis
BEGIN:DAYLIGHT
TZOFFSETFROM:-0500
TZOFFSETTO:-0400
TZNAME:EDT
DTSTART:20230312T070000
END:DAYLIGHT
BEGIN:STANDARD
TZOFFSETFROM:-0400
TZOFFSETTO:-0500
TZNAME:EST
DTSTART:20231105T060000
END:STANDARD
BEGIN:DAYLIGHT
TZOFFSETFROM:-0500
TZOFFSETTO:-0400
TZNAME:EDT
DTSTART:20240310T070000
END:DAYLIGHT
BEGIN:STANDARD
TZOFFSETFROM:-0400
TZOFFSETTO:-0500
TZNAME:EST
DTSTART:20241103T060000
END:STANDARD
BEGIN:DAYLIGHT
TZOFFSETFROM:-0500
TZOFFSETTO:-0400
TZNAME:EDT
DTSTART:20250309T070000
END:DAYLIGHT
BEGIN:STANDARD
TZOFFSETFROM:-0400
TZOFFSETTO:-0500
TZNAME:EST
DTSTART:20251102T060000
END:STANDARD
END:VTIMEZONE
BEGIN:VEVENT
DTSTART;VALUE=DATE:20241019
DTEND;VALUE=DATE:20241020
DTSTAMP:20260419T125113
CREATED:20240219T165253Z
LAST-MODIFIED:20240219T165253Z
UID:2562-1729296000-1729382399@aevtvending.com
SUMMARY:Austin FC vs. Colorado Rapids
DESCRIPTION:
URL:https://aevtvending.com/event/austin-fc-vs-colorado-rapids/
LOCATION:Q2 Stadium (Austin FC)-Please contact Seth McPheron\, 10414 Mc Kalla Pl\, Austin\, TX\, 78758\, United States
END:VEVENT
BEGIN:VEVENT
DTSTART;VALUE=DATE:20241019
DTEND;VALUE=DATE:20241020
DTSTAMP:20260419T125113
CREATED:20240627T005222Z
LAST-MODIFIED:20240627T005222Z
UID:2787-1729296000-1729382399@aevtvending.com
SUMMARY:Kansas Jayhawks vs. Houston Cougars
DESCRIPTION:
URL:https://aevtvending.com/event/kansas-jayhawks-vs-houston-cougars/
LOCATION:ARROWHEAD STADIUM (KANSAS CITY CHIEFS)-Please contact Seth McPheron\, 1 Arrowhead Drive\, Kansas City\, MO\, 64129\, United States
END:VEVENT
BEGIN:VEVENT
DTSTART;VALUE=DATE:20241019
DTEND;VALUE=DATE:20241020
DTSTAMP:20260419T125113
CREATED:20240628T221702Z
LAST-MODIFIED:20240628T221702Z
UID:2835-1729296000-1729382399@aevtvending.com
SUMMARY:Missouri vs Auburn
DESCRIPTION:
URL:https://aevtvending.com/event/missouri-vs-auburn/
LOCATION:IN
END:VEVENT
BEGIN:VEVENT
DTSTART;VALUE=DATE:20241019
DTEND;VALUE=DATE:20241020
DTSTAMP:20260419T125113
CREATED:20240701T175034Z
LAST-MODIFIED:20240701T175034Z
UID:2853-1729296000-1729382399@aevtvending.com
SUMMARY:University of Cincinnati vs Arizona State
DESCRIPTION:
URL:https://aevtvending.com/event/university-of-cincinnati-vs-arizona-state/
LOCATION:Nippert Stadium(University of Cincinnati)-Please contact Michelle Donaldson\, 2700 Bearcat Way\, Cincinnati\, OH\, 45221\, United States
END:VEVENT
BEGIN:VEVENT
DTSTART;VALUE=DATE:20241019
DTEND;VALUE=DATE:20241020
DTSTAMP:20260419T125113
CREATED:20240801T170502Z
LAST-MODIFIED:20240801T170502Z
UID:2936-1729296000-1729382399@aevtvending.com
SUMMARY:Arkansas vs LSU
DESCRIPTION:
URL:https://aevtvending.com/event/arkansas-vs-lsu/
LOCATION:Donald W. Reynolds Razorback Stadium (University of Arkansas Razorbacks)-Please contact Seth McPheron\, 350 N Razorback Rd\, Fayetteville\, AR\, 72701\, United States
END:VEVENT
BEGIN:VEVENT
DTSTART;VALUE=DATE:20241019
DTEND;VALUE=DATE:20241020
DTSTAMP:20260419T125113
CREATED:20240909T190046Z
LAST-MODIFIED:20240909T190046Z
UID:3212-1729296000-1729382399@aevtvending.com
SUMMARY:IU vs. Nebraska
DESCRIPTION:
URL:https://aevtvending.com/event/iu-vs-nebraska/
LOCATION:Indiana University Memorial Stadium – Please contact Evita Clarke\, 701 E 17th St.\, Bloomington\, IN\, 47408\, United States
END:VEVENT
END:VCALENDAR