BEGIN:VCALENDAR
VERSION:2.0
PRODID:-//America&#039;s Elite Vending Team LLC - ECPv6.15.20//NONSGML v1.0//EN
CALSCALE:GREGORIAN
METHOD:PUBLISH
X-WR-CALNAME:America&#039;s Elite Vending Team LLC
X-ORIGINAL-URL:https://aevtvending.com
X-WR-CALDESC:Events for America&#039;s Elite Vending Team LLC
REFRESH-INTERVAL;VALUE=DURATION:PT1H
X-Robots-Tag:noindex
X-PUBLISHED-TTL:PT1H
BEGIN:VTIMEZONE
TZID:America/Indiana/Indianapolis
BEGIN:DAYLIGHT
TZOFFSETFROM:-0500
TZOFFSETTO:-0400
TZNAME:EDT
DTSTART:20250309T070000
END:DAYLIGHT
BEGIN:STANDARD
TZOFFSETFROM:-0400
TZOFFSETTO:-0500
TZNAME:EST
DTSTART:20251102T060000
END:STANDARD
BEGIN:DAYLIGHT
TZOFFSETFROM:-0500
TZOFFSETTO:-0400
TZNAME:EDT
DTSTART:20260308T070000
END:DAYLIGHT
BEGIN:STANDARD
TZOFFSETFROM:-0400
TZOFFSETTO:-0500
TZNAME:EST
DTSTART:20261101T060000
END:STANDARD
BEGIN:DAYLIGHT
TZOFFSETFROM:-0500
TZOFFSETTO:-0400
TZNAME:EDT
DTSTART:20270314T070000
END:DAYLIGHT
BEGIN:STANDARD
TZOFFSETFROM:-0400
TZOFFSETTO:-0500
TZNAME:EST
DTSTART:20271107T060000
END:STANDARD
END:VTIMEZONE
BEGIN:VEVENT
DTSTART;VALUE=DATE:20260804
DTEND;VALUE=DATE:20260805
DTSTAMP:20260421T052251
CREATED:20260224T010902Z
LAST-MODIFIED:20260224T010902Z
UID:4894-1785801600-1785887999@aevtvending.com
SUMMARY:MANILOW: The Last Lexington Concert
DESCRIPTION:
URL:https://aevtvending.com/event/manilow-the-last-lexington-concert/
LOCATION:Rupp Arena-Please contact Marquez Wynn\, 430 W Vine St\, Lexington\, KY\, 40507\, United States
END:VEVENT
BEGIN:VEVENT
DTSTART;VALUE=DATE:20260806
DTEND;VALUE=DATE:20260807
DTSTAMP:20260421T052251
CREATED:20260224T003917Z
LAST-MODIFIED:20260224T003917Z
UID:4866-1785974400-1786060799@aevtvending.com
SUMMARY:Fever vs. Aces
DESCRIPTION:
URL:https://aevtvending.com/event/fever-vs-aces-5/
LOCATION:Gainbridge Fieldhouse (Indiana Pacers)-Please contact Rachel Rodriguez\, 125 S Pennsylvania St\, Indianapolis\, IN\, 46204\, United States
END:VEVENT
BEGIN:VEVENT
DTSTART;VALUE=DATE:20260811
DTEND;VALUE=DATE:20260812
DTSTAMP:20260421T052251
CREATED:20260224T003945Z
LAST-MODIFIED:20260224T003945Z
UID:4868-1786406400-1786492799@aevtvending.com
SUMMARY:Fever vs. Liberty
DESCRIPTION:
URL:https://aevtvending.com/event/fever-vs-liberty-6/
LOCATION:Gainbridge Fieldhouse (Indiana Pacers)-Please contact Rachel Rodriguez\, 125 S Pennsylvania St\, Indianapolis\, IN\, 46204\, United States
END:VEVENT
BEGIN:VEVENT
DTSTART;VALUE=DATE:20260814
DTEND;VALUE=DATE:20260815
DTSTAMP:20260421T052251
CREATED:20260224T004031Z
LAST-MODIFIED:20260224T004031Z
UID:4870-1786665600-1786751999@aevtvending.com
SUMMARY:Fever vs. Wings
DESCRIPTION:
URL:https://aevtvending.com/event/fever-vs-wings-5/
LOCATION:Gainbridge Fieldhouse (Indiana Pacers)-Please contact Rachel Rodriguez\, 125 S Pennsylvania St\, Indianapolis\, IN\, 46204\, United States
END:VEVENT
BEGIN:VEVENT
DTSTART;VALUE=DATE:20260815
DTEND;VALUE=DATE:20260816
DTSTAMP:20260421T052251
CREATED:20260224T000450Z
LAST-MODIFIED:20260224T000450Z
UID:4798-1786752000-1786838399@aevtvending.com
SUMMARY:Houston Dynamo vs. LA Galaxy
DESCRIPTION:
URL:https://aevtvending.com/event/houston-dynamo-vs-la-galaxy-2/
LOCATION:Shell Energy Stadium (Houston Dynamo) Please contact Seth McPheron\, 2200 Texas Ave\, Houston\, TX\, 77003\, United States
END:VEVENT
BEGIN:VEVENT
DTSTART;VALUE=DATE:20260828
DTEND;VALUE=DATE:20260829
DTSTAMP:20260421T052251
CREATED:20260224T004059Z
LAST-MODIFIED:20260224T004059Z
UID:4872-1787875200-1787961599@aevtvending.com
SUMMARY:Fever vs. Sun
DESCRIPTION:
URL:https://aevtvending.com/event/fever-vs-sun-6/
LOCATION:Gainbridge Fieldhouse (Indiana Pacers)-Please contact Rachel Rodriguez\, 125 S Pennsylvania St\, Indianapolis\, IN\, 46204\, United States
END:VEVENT
BEGIN:VEVENT
DTSTART;VALUE=DATE:20260829
DTEND;VALUE=DATE:20260830
DTSTAMP:20260421T052251
CREATED:20260224T000527Z
LAST-MODIFIED:20260224T000527Z
UID:4800-1787961600-1788047999@aevtvending.com
SUMMARY:Houston Dynamo vs. San Jose
DESCRIPTION:
URL:https://aevtvending.com/event/houston-dynamo-vs-san-jose-2/
LOCATION:Shell Energy Stadium (Houston Dynamo) Please contact Seth McPheron\, 2200 Texas Ave\, Houston\, TX\, 77003\, United States
END:VEVENT
END:VCALENDAR